BEGIN:VCALENDAR
VERSION:2.0
PRODID:-//Sciecq - ECPv6.15.11//NONSGML v1.0//EN
CALSCALE:GREGORIAN
METHOD:PUBLISH
X-ORIGINAL-URL:https://www.sciecq.fr
X-WR-CALDESC:Évènements pour Sciecq
REFRESH-INTERVAL;VALUE=DURATION:PT1H
X-Robots-Tag:noindex
X-PUBLISHED-TTL:PT1H
BEGIN:VTIMEZONE
TZID:Europe/Paris
BEGIN:DAYLIGHT
TZOFFSETFROM:+0100
TZOFFSETTO:+0200
TZNAME:CEST
DTSTART:20250330T010000
END:DAYLIGHT
BEGIN:STANDARD
TZOFFSETFROM:+0200
TZOFFSETTO:+0100
TZNAME:CET
DTSTART:20251026T010000
END:STANDARD
BEGIN:DAYLIGHT
TZOFFSETFROM:+0100
TZOFFSETTO:+0200
TZNAME:CEST
DTSTART:20260329T010000
END:DAYLIGHT
BEGIN:STANDARD
TZOFFSETFROM:+0200
TZOFFSETTO:+0100
TZNAME:CET
DTSTART:20261025T010000
END:STANDARD
BEGIN:DAYLIGHT
TZOFFSETFROM:+0100
TZOFFSETTO:+0200
TZNAME:CEST
DTSTART:20270328T010000
END:DAYLIGHT
BEGIN:STANDARD
TZOFFSETFROM:+0200
TZOFFSETTO:+0100
TZNAME:CET
DTSTART:20271031T010000
END:STANDARD
END:VTIMEZONE
BEGIN:VEVENT
DTSTART;TZID=Europe/Paris:20260116T190000
DTEND;TZID=Europe/Paris:20260116T233000
DTSTAMP:20260422T144135
CREATED:20251214T154254Z
LAST-MODIFIED:20251214T155118Z
UID:5911-1768590000-1768606200@www.sciecq.fr
SUMMARY:Avenir 79
DESCRIPTION:L’avenir 79 vous donne RDV pour un concours de palets.
URL:https://www.sciecq.fr/evenement/hallowen-2025-2/
LOCATION:Salle Polyvalente de Saint-Rémy\, Saint-Rémy\, 79410\, France
CATEGORIES:Associatif,Culturel
ATTACH;FMTTYPE=image/png:https://www.sciecq.fr/wp-content/uploads/2025/12/Capture-decran-2025-12-14-a-16.36.32.png
END:VEVENT
END:VCALENDAR